BEGIN:VCALENDAR
VERSION:2.0
PRODID:-//Boulevard Federal Credit Union - ECPv6.15.15//NONSGML v1.0//EN
CALSCALE:GREGORIAN
METHOD:PUBLISH
X-ORIGINAL-URL:https://www.blvdfcu.com
X-WR-CALDESC:Events for Boulevard Federal Credit Union
REFRESH-INTERVAL;VALUE=DURATION:PT1H
X-Robots-Tag:noindex
X-PUBLISHED-TTL:PT1H
BEGIN:VTIMEZONE
TZID:UTC
BEGIN:STANDARD
TZOFFSETFROM:+0000
TZOFFSETTO:+0000
TZNAME:UTC
DTSTART:20240101T000000
END:STANDARD
END:VTIMEZONE
BEGIN:VEVENT
DTSTART;VALUE=DATE:20250414
DTEND;VALUE=DATE:20250418
DTSTAMP:20260422T022208
CREATED:20250401T202458Z
LAST-MODIFIED:20250401T203402Z
UID:14444-1744588800-1744934399@www.blvdfcu.com
SUMMARY:Youth Week Coloring
DESCRIPTION:Coloring Page\n                 1 file(s)  60.33 KB\n            \n            \n                Download\n            \n        \n    \n\n\n\n \n\n\n\n    \n        \n            \n            \n                Coloring Page\n                 1 file(s)  60.33 KB\n            \n            \n                Download
URL:https://www.blvdfcu.com/event/youth-week-coloring/
LOCATION:Boulevard FCU\, 2787 Niagara Falls Blvd.\, Amherst\, NY\, 14228\, United States
END:VEVENT
END:VCALENDAR